BEGIN:VCALENDAR
VERSION:2.0
PRODID:-//Ziber2013/
CALSCALE:GREGORIAN
BEGIN:VEVENT
UID:253544@https://www.olympiajol.nl
DTSTART:20260514T100000
DTEND:20260516T160000
SUMMARY:Ranglijstwedstrijd - Oostenrijks Kampioenschap Attersee
DESCRIPTION:<p>Informatie volgt nog</p>
LOCATION:Attersee\, Oostenrijk
ATTACH;FMTTYPE=image/jpeg:/content/31474/agenda/clnt/253544_org.jpeg?width=1600&height=1200
SEQUENCE:0
DTSTAMP:20260421T080100
END:VEVENT
END:VCALENDAR
